Workbook

Sheet StakeholderSalienceAnalysis
A1: Stakeholdermap - template volgens power/intrest grid (naar Levuur)
A2: Opgelet: vul karakteristieken in - gebruik het dropdown-menu
A4: Omschrijving | D4: Karakteristiek | J4: Management strategie | M4: Contactgevens
A5: Stakeholder roepnaam | B5: Korte beschrijving | C5: Type | D5: Invloed | E5: Belang | F5: Urgentie | G5: berekeningskolom | H5: Gewicht | I5: Categorie | J5: Wat wil de stakeholder bereiken, wat is zijn belang, wat kan hem motiveren [waarden, belangen, emotionele triggers, standpunten] | K5: Win/win aanpak [welke strategie om stakeholder te managen] | L5: Hoe engageren | M5: Contactpersoon + functie | N5: Telefoon | O5: Email | P5: Al ondernomen
A6: vb. schooldirectie | B6: vb. schooldirecteur van middelbare school X | D6: High | E6: High | F6: High | G6: =CONCATENATE(D6,E6,F6) -> HighHighHigh | H6: {=IFERROR(INDEX(StakeholderSalienceMatrix!B$2:B$140,MATCH(G6,StakeholderSalienceMatrix!G$2:G$140,0)),0)} -> Manage Closely | I6: {=IFERROR(INDEX(StakeholderSalienceMatrix!A$2:A$140,MATCH(G6,StakeholderSalienceMatrix!G$2:G$140,0)),0)} -> High Salience | J6: uitstraling natuurvriendelijke school, land -en tuinbouwleerlingen expertise bijbrengen in inbouwtechnieken | K6: aankoop inbouwoplossing via project en plaatsing door leerlingen van de school | L6: medezeggenschap bij te voorziene ingrepen en aankoopkeuze | M6: directeur XY | N6: 32 | O6: … | P6: aankondiging inventaris doelsoorten. Infopaneel natuur-inbouw in aanbesteding voor de schoolmuur opgenomen
A7: … | D7: MediumHigh | E7: MediumHigh | F7: Low | G7: =CONCATENATE(D7,E7,F7) -> MediumHighMediumHighLow | H7: {=IFERROR(INDEX(StakeholderSalienceMatrix!B$2:B$140,MATCH(G7,StakeholderSalienceMatrix!G$2:G$140,0)),0)} -> Manage Closely | I7: {=IFERROR(INDEX(StakeholderSalienceMatrix!A$2:A$140,MATCH(G7,StakeholderSalienceMatrix!G$2:G$140,0)),0)} -> Expectant
D8: MediumHigh | E8: High | F8: High | G8: =CONCATENATE(D8,E8,F8) -> MediumHighHighHigh | H8: {=IFERROR(INDEX(StakeholderSalienceMatrix!B$2:B$140,MATCH(G8,StakeholderSalienceMatrix!G$2:G$140,0)),0)} -> Manage Closely | I8: {=IFERROR(INDEX(StakeholderSalienceMatrix!A$2:A$140,MATCH(G8,StakeholderSalienceMatrix!G$2:G$140,0)),0)} -> High Salience
D9: MediumLow | E9: MediumHigh | F9: High | G9: =CONCATENATE(D9,E9,F9) -> MediumLowMediumHighHigh | H9: {=IFERROR(INDEX(StakeholderSalienceMatrix!B$2:B$140,MATCH(G9,StakeholderSalienceMatrix!G$2:G$140,0)),0)} -> Keep Informed
D10: MediumHigh | E10: MediumHigh | F10: Low | G10: =CONCATENATE(D10,E10,F10) -> MediumHighMediumHighLow | H10: {=IFERROR(INDEX(StakeholderSalienceMatrix!B$2:B$140,MATCH(G10,StakeholderSalienceMatrix!G$2:G$140,0)),0)} -> Manage Closely | I10: {=IFERROR(INDEX(StakeholderSalienceMatrix!A$2:A$140,MATCH(G10,StakeholderSalienceMatrix!G$2:G$140,0)),0)} -> Expectant
D11: MediumHigh | E11: High | F11: Low | G11: =CONCATENATE(D11,E11,F11) -> MediumHighHighLow | H11: {=IFERROR(INDEX(StakeholderSalienceMatrix!B$2:B$140,MATCH(G11,StakeholderSalienceMatrix!G$2:G$140,0)),0)} -> Manage Closely | I11: {=IFERROR(INDEX(StakeholderSalienceMatrix!A$2:A$140,MATCH(G11,StakeholderSalienceMatrix!G$2:G$140,0)),0)} -> Expectant
D12: MediumHigh | E12: MediumHigh | F12: Low | G12: =CONCATENATE(D12,E12,F12) -> MediumHighMediumHighLow | H12: {=IFERROR(INDEX(StakeholderSalienceMatrix!B$2:B$140,MATCH(G12,StakeholderSalienceMatrix!G$2:G$140,0)),0)} -> Manage Closely | I12: {=IFERROR(INDEX(StakeholderSalienceMatrix!A$2:A$140,MATCH(G12,StakeholderSalienceMatrix!G$2:G$140,0)),0)} -> Expectant
D13: MediumHigh | E13: MediumLow | F13: Low | G13: =CONCATENATE(D13,E13,F13) -> MediumHighMediumLowLow | H13: {=IFERROR(INDEX(StakeholderSalienceMatrix!B$2:B$140,MATCH(G13,StakeholderSalienceMatrix!G$2:G$140,0)),0)} -> Keep Satisfied | I13: {=IFERROR(INDEX(StakeholderSalienceMatrix!A$2:A$140,MATCH(G13,StakeholderSalienceMatrix!G$2:G$140,0)),0)} -> Latent
D14: Low | E14: Low | F14: Low | G14: =CONCATENATE(D14,E14,F14) -> LowLowLow | H14: {=IFERROR(INDEX(StakeholderSalienceMatrix!B$2:B$140,MATCH(G14,StakeholderSalienceMatrix!G$2:G$140,0)),0)} -> Monitor | I14: {=IFERROR(INDEX(StakeholderSalienceMatrix!A$2:A$140,MATCH(G14,StakeholderSalienceMatrix!G$2:G$140,0)),0)} -> Non or potential stakeholder
D15: MediumHigh | E15: MediumLow | F15: Low | G15: =CONCATENATE(D15,E15,F15) -> MediumHighMediumLowLow | H15: {=IFERROR(INDEX(StakeholderSalienceMatrix!B$2:B$140,MATCH(G15,StakeholderSalienceMatrix!G$2:G$140,0)),0)} -> Keep Satisfied | I15: {=IFERROR(INDEX(StakeholderSalienceMatrix!A$2:A$140,MATCH(G15,StakeholderSalienceMatrix!G$2:G$140,0)),0)} -> Latent
D16: High | E16: High | F16: Low | G16: =CONCATENATE(D16,E16,F16) -> HighHighLow | H16: {=IFERROR(INDEX(StakeholderSalienceMatrix!B$2:B$140,MATCH(G16,StakeholderSalienceMatrix!G$2:G$140,0)),0)} -> Manage Closely | I16: {=IFERROR(INDEX(StakeholderSalienceMatrix!A$2:A$140,MATCH(G16,StakeholderSalienceMatrix!G$2:G$140,0)),0)} -> Expectant
D17: MediumHigh | E17: MediumLow | F17: Low | G17: =CONCATENATE(D17,E17,F17) -> MediumHighMediumLowLow | H17: {=IFERROR(INDEX(StakeholderSalienceMatrix!B$2:B$140,MATCH(G17,StakeholderSalienceMatrix!G$2:G$140,0)),0)} -> Keep Satisfied | I17: {=IFERROR(INDEX(StakeholderSalienceMatrix!A$2:A$140,MATCH(G17,StakeholderSalienceMatrix!G$2:G$140,0)),0)} -> Latent
D18: MediumLow | E18: MediumLow | F18: Low | G18: =CONCATENATE(D18,E18,F18) -> MediumLowMediumLowLow | H18: {=IFERROR(INDEX(StakeholderSalienceMatrix!B$2:B$140,MATCH(G18,StakeholderSalienceMatrix!G$2:G$140,0)),0)} -> Monitor | I18: {=IFERROR(INDEX(StakeholderSalienceMatrix!A$2:A$140,MATCH(G18,StakeholderSalienceMatrix!G$2:G$140,0)),0)} -> Non or potential stakeholder
D19: MediumHigh | E19: MediumLow | F19: High | G19: =CONCATENATE(D19,E19,F19) -> MediumHighMediumLowHigh | H19: {=IFERROR(INDEX(StakeholderSalienceMatrix!B$2:B$140,MATCH(G19,StakeholderSalienceMatrix!G$2:G$140,0)),0)} -> Keep Satisfied | I19: {=IFERROR(INDEX(StakeholderSalienceMatrix!A$2:A$140,MATCH(G19,StakeholderSalienceMatrix!G$2:G$140,0)),0)} -> Expectant
D20: High | E20: High | F20: Low | G20: =CONCATENATE(D20,E20,F20) -> HighHighLow | H20: {=IFERROR(INDEX(StakeholderSalienceMatrix!B$2:B$140,MATCH(G20,StakeholderSalienceMatrix!G$2:G$140,0)),0)} -> Manage Closely | I20: {=IFERROR(INDEX(StakeholderSalienceMatrix!A$2:A$140,MATCH(G20,StakeholderSalienceMatrix!G$2:G$140,0)),0)} -> Expectant
D21: MediumLow | E21: Low | F21: Low | G21: =CONCATENATE(D21,E21,F21) -> MediumLowLowLow | H21: {=IFERROR(INDEX(StakeholderSalienceMatrix!B$2:B$140,MATCH(G21,StakeholderSalienceMatrix!G$2:G$140,0)),0)} -> Monitor | I21: {=IFERROR(INDEX(StakeholderSalienceMatrix!A$2:A$140,MATCH(G21,StakeholderSalienceMatrix!G$2:G$140,0)),0)} -> Non or potential stakeholder
Q22: Voor eind juni gaan ze iets laten weten
D23: MediumLow | E23: MediumLow | F23: Low | G23: =CONCATENATE(D23,E23,F23) -> MediumLowMediumLowLow | H23: {=IFERROR(INDEX(StakeholderSalienceMatrix!B$2:B$140,MATCH(G23,StakeholderSalienceMatrix!G$2:G$140,0)),0)} -> Monitor | I23: {=IFERROR(INDEX(StakeholderSalienceMatrix!A$2:A$140,MATCH(G23,StakeholderSalienceMatrix!G$2:G$140,0)),0)} -> Non or potential stakeholder
D24: MediumLow | E24: MediumLow | F24: Low | G24: =CONCATENATE(D24,E24,F24) -> MediumLowMediumLowLow | H24: {=IFERROR(INDEX(StakeholderSalienceMatrix!B$2:B$140,MATCH(G24,StakeholderSalienceMatrix!G$2:G$140,0)),0)} -> Monitor
D25: MediumLow | E25: MediumLow | F25: Low | G25: =CONCATENATE(D25,E25,F25) -> MediumLowMediumLowLow | H25: {=IFERROR(INDEX(StakeholderSalienceMatrix!B$2:B$140,MATCH(G25,StakeholderSalienceMatrix!G$2:G$140,0)),0)} -> Monitor
D26: MediumLow | E26: MediumLow | F26: Low | G26: =CONCATENATE(D26,E26,F26) -> MediumLowMediumLowLow | H26: {=IFERROR(INDEX(StakeholderSalienceMatrix!B$2:B$140,MATCH(G26,StakeholderSalienceMatrix!G$2:G$140,0)),0)} -> Monitor
D27: MediumLow | E27: MediumLow | F27: Low | G27: =CONCATENATE(D27,E27,F27) -> MediumLowMediumLowLow | H27: {=IFERROR(INDEX(StakeholderSalienceMatrix!B$2:B$140,MATCH(G27,StakeholderSalienceMatrix!G$2:G$140,0)),0)} -> Monitor | I27: {=IFERROR(INDEX(StakeholderSalienceMatrix!A$2:A$140,MATCH(G27,StakeholderSalienceMatrix!G$2:G$140,0)),0)} -> Non or potential stakeholder
D28: MediumLow | E28: MediumHigh | F28: Low | G28: =CONCATENATE(D28,E28,F28) -> MediumLowMediumHighLow | H28: {=IFERROR(INDEX(StakeholderSalienceMatrix!B$2:B$140,MATCH(G28,StakeholderSalienceMatrix!G$2:G$140,0)),0)} -> Keep Informed | I28: {=IFERROR(INDEX(StakeholderSalienceMatrix!A$2:A$140,MATCH(G28,StakeholderSalienceMatrix!G$2:G$140,0)),0)} -> Latent
D29: MediumLow | E29: MediumLow | F29: Low | G29: =CONCATENATE(D29,E29,F29) -> MediumLowMediumLowLow | H29: {=IFERROR(INDEX(StakeholderSalienceMatrix!B$2:B$140,MATCH(G29,StakeholderSalienceMatrix!G$2:G$140,0)),0)} -> Monitor | I29: {=IFERROR(INDEX(StakeholderSalienceMatrix!A$2:A$140,MATCH(G29,StakeholderSalienceMatrix!G$2:G$140,0)),0)} -> Non or potential stakeholder
D30: MediumLow | E30: MediumLow | F30: Low | G30: =CONCATENATE(D30,E30,F30) -> MediumLowMediumLowLow | H30: {=IFERROR(INDEX(StakeholderSalienceMatrix!B$2:B$140,MATCH(G30,StakeholderSalienceMatrix!G$2:G$140,0)),0)} -> Monitor | I30: {=IFERROR(INDEX(StakeholderSalienceMatrix!A$2:A$140,MATCH(G30,StakeholderSalienceMatrix!G$2:G$140,0)),0)} -> Non or potential stakeholder
D31: MediumHigh | E31: MediumLow | F31: Low | G31: =CONCATENATE(D31,E31,F31) -> MediumHighMediumLowLow | H31: {=IFERROR(INDEX(StakeholderSalienceMatrix!B$2:B$140,MATCH(G31,StakeholderSalienceMatrix!G$2:G$140,0)),0)} -> Keep Satisfied | I31: {=IFERROR(INDEX(StakeholderSalienceMatrix!A$2:A$140,MATCH(G31,StakeholderSalienceMatrix!G$2:G$140,0)),0)} -> Latent
D33: MediumLow | E33: MediumLow | F33: Low | G33: =CONCATENATE(D33,E33,F33) -> MediumLowMediumLowLow | H33: {=IFERROR(INDEX(StakeholderSalienceMatrix!B$2:B$140,MATCH(G33,StakeholderSalienceMatrix!G$2:G$140,0)),0)} -> Monitor | I33: {=IFERROR(INDEX(StakeholderSalienceMatrix!A$2:A$140,MATCH(G33,StakeholderSalienceMatrix!G$2:G$140,0)),0)} -> Non or potential stakeholder
D34: MediumLow | E34: High | F34: Low | G34: =CONCATENATE(D34,E34,F34) -> MediumLowHighLow | H34: {=IFERROR(INDEX(StakeholderSalienceMatrix!B$2:B$140,MATCH(G34,StakeholderSalienceMatrix!G$2:G$140,0)),0)} -> Keep Informed | I34: {=IFERROR(INDEX(StakeholderSalienceMatrix!A$2:A$140,MATCH(G34,StakeholderSalienceMatrix!G$2:G$140,0)),0)} -> Latent
D35: MediumHigh | E35: MediumLow | F35: Low | G35: =CONCATENATE(D35,E35,F35) -> MediumHighMediumLowLow | H35: {=IFERROR(INDEX(StakeholderSalienceMatrix!B$2:B$140,MATCH(G35,StakeholderSalienceMatrix!G$2:G$140,0)),0)} -> Keep Satisfied | I35: {=IFERROR(INDEX(StakeholderSalienceMatrix!A$2:A$140,MATCH(G35,StakeholderSalienceMatrix!G$2:G$140,0)),0)} -> Latent
D36: High | E36: High | F36: High | G36: =CONCATENATE(D36,E36,F36) -> HighHighHigh | H36: {=IFERROR(INDEX(StakeholderSalienceMatrix!B$2:B$140,MATCH(G36,StakeholderSalienceMatrix!G$2:G$140,0)),0)} -> Manage Closely | I36: {=IFERROR(INDEX(StakeholderSalienceMatrix!A$2:A$140,MATCH(G36,StakeholderSalienceMatrix!G$2:G$140,0)),0)} -> High Salience
D37: High | E37: High | F37: High | G37: =CONCATENATE(D37,E37,F37) -> HighHighHigh | H37: {=IFERROR(INDEX(StakeholderSalienceMatrix!B$2:B$140,MATCH(G37,StakeholderSalienceMatrix!G$2:G$140,0)),0)} -> Manage Closely | I37: {=IFERROR(INDEX(StakeholderSalienceMatrix!A$2:A$140,MATCH(G37,StakeholderSalienceMatrix!G$2:G$140,0)),0)} -> High Salience
D38: MediumHigh | E38: MediumLow | F38: High | G38: =CONCATENATE(D38,E38,F38) -> MediumHighMediumLowHigh | H38: {=IFERROR(INDEX(StakeholderSalienceMatrix!B$2:B$140,MATCH(G38,StakeholderSalienceMatrix!G$2:G$140,0)),0)} -> Keep Satisfied | I38: {=IFERROR(INDEX(StakeholderSalienceMatrix!A$2:A$140,MATCH(G38,StakeholderSalienceMatrix!G$2:G$140,0)),0)} -> Expectant
D39: MediumHigh | E39: MediumLow | F39: Low | G39: =CONCATENATE(D39,E39,F39) -> MediumHighMediumLowLow | H39: {=IFERROR(INDEX(StakeholderSalienceMatrix!B$2:B$140,MATCH(G39,StakeholderSalienceMatrix!G$2:G$140,0)),0)} -> Keep Satisfied | I39: {=IFERROR(INDEX(StakeholderSalienceMatrix!A$2:A$140,MATCH(G39,StakeholderSalienceMatrix!G$2:G$140,0)),0)} -> Latent
... D59: MediumLow | E59: MediumHigh | F59: Low | G59: =CONCATENATE(D59,E59,F59) -> MediumLowMediumHighLow | H59: {=IFERROR(INDEX(StakeholderSalienceMatrix!B$2:B$140,MATCH(G59,StakeholderSalienceMatrix!G$2:G$140,0)),0)} -> Keep Informed | I59: {=IFERROR(INDEX(StakeholderSalienceMatrix!A$2:A$140,MATCH(G59,StakeholderSalienceMatrix!G$2:G$140,0)),0)} -> Latent
D60: High | E60: High | F60: Low | G60: =CONCATENATE(D60,E60,F60) -> HighHighLow | H60: =IFERROR(INDEX(StakeholderSalienceMatrix!B$2:B$140,MATCH(G60,StakeholderSalienceMatrix!G$2:G$140,0)),0) -> Manage Closely | I60: {=IFERROR(INDEX(StakeholderSalienceMatrix!A$2:A$140,MATCH(G60,StakeholderSalienceMatrix!G$2:G$140,0)),0)} -> Expectant
D61: MediumLow | E61: MediumLow | F61: Low | G61: =CONCATENATE(D61,E61,F61) -> MediumLowMediumLowLow | H61: {=IFERROR(INDEX(StakeholderSalienceMatrix!B$2:B$140,MATCH(G61,StakeholderSalienceMatrix!G$2:G$140,0)),0)} -> Monitor | I61: {=IFERROR(INDEX(StakeholderSalienceMatrix!A$2:A$140,MATCH(G61,StakeholderSalienceMatrix!G$2:G$140,0)),0)} -> Non or potential stakeholder
...

Sheet StakeholderSalienceMatrix
A1: Grouping | B1: Salience | C1: Invloed | D1: belang | E1: Urgency | F1: What the stakeholder would need to gain to be a Definitive Stakeholder
A2: Latent | B2: Keep Satisfied | C2: High | D2: Low | E2: Low | F2: Authority and Exercise (the ability to wield their authority) | G2: =CONCATENATE(C2,D2,E2) -> HighLowLow
A3: Latent | B3: Keep Satisfied | C3: MediumHigh | D3: Low | E3: Low | G3: =CONCATENATE(C3,D3,E3) -> MediumHighLowLow
A4: Latent | B4: Keep Satisfied | C4: High | D4: MediumLow | E4: Low | G4: =CONCATENATE(C4,D4,E4) -> HighMediumLowLow
A5: Latent | B5: Keep Satisfied | C5: MediumHigh | D5: MediumLow | E5: Low | G5: =CONCATENATE(C5,D5,E5) -> MediumHighMediumLowLow
A6: Latent | B6: Keep Informed | C6: Low | D6: High | E6: Low | F6: Rights and a Voice | G6: =CONCATENATE(C6,D6,E6) -> LowHighLow
A7: Latent | B7: Keep Informed | C7: Low | D7: MediumHigh | E7: Low | G7: =CONCATENATE(C7,D7,E7) -> LowMediumHighLow
A8: Latent | B8: Keep Informed | C8: MediumLow | D8: High | E8: Low | G8: =CONCATENATE(C8,D8,E8) -> MediumLowHighLow
A9: Latent | B9: Keep Informed | C9: MediumLow | D9: MediumHigh | E9: Low | G9: =CONCATENATE(C9,D9,E9) -> MediumLowMediumHighLow
A10: Latent | B10: Monitor | C10: Low | D10: Low | E10: High | F10: Action in their favour and Access | G10: =CONCATENATE(C10,D10,E10) -> LowLowHigh
A11: Latent | B11: Monitor | C11: Low | D11: MediumLow | E11: High | G11: =CONCATENATE(C11,D11,E11) -> LowMediumLowHigh
A12: Latent | B12: Monitor | C12: MediumLow | D12: Low | E12: High | G12: =CONCATENATE(C12,D12,E12) -> MediumLowLowHigh
A13: Latent | B13: Monitor | C13: MediumLow | D13: Mediumlow | E13: High | G13: =CONCATENATE(C13,D13,E13) -> MediumLowMediumlowHigh
A14: Expectant | B14: Manage Closely | C14: High | D14: High | E14: Low | F14: Exercise (the ability to wield their power and legitimacy) | G14: =CONCATENATE(C14,D14,E14) -> HighHighLow
A15: Expectant | B15: Manage Closely | C15: High | D15: MediumHigh | E15: Low | G15: =CONCATENATE(C15,D15,E15) -> HighMediumHighLow
A16: Expectant | B16: Manage Closely | C16: MediumHigh | D16: High | E16: Low | G16: =CONCATENATE(C16,D16,E16) -> MediumHighHighLow
A17: Expectant | B17: Manage Closely | C17: MediumHigh | D17: MediumHigh | E17: Low | G17: =CONCATENATE(C17,D17,E17) -> MediumHighMediumHighLow
A18: Expectant | B18: Keep Satisfied | C18: High | D18: Low | E18: High | F18: Authority which would increase their legitimacy. | G18: =CONCATENATE(C18,D18,E18) -> HighLowHigh
A19: Expectant | B19: Keep Satisfied | C19: MediumHigh | D19: Low | E19: High | G19: =CONCATENATE(C19,D19,E19) -> MediumHighLowHigh
A20: Expectant | B20: Keep Satisfied | C20: High | D20: MediumLow | E20: High | G20: =CONCATENATE(C20,D20,E20) -> HighMediumLowHigh
A21: Expectant | B21: Keep Satisfied | C21: MediumHigh | D21: MediumLow | E21: High | G21: =CONCATENATE(C21,D21,E21) -> MediumHighMediumLowHigh
A22: Expectant | B22: Keep Informed | C22: Low | D22: High | E22: High | F22: Action in their favour to increase their power | G22: =CONCATENATE(C22,D22,E22) -> LowHighHigh
A23: Expectant | B23: Keep Informed | C23: Low | D23: MediumHigh | E23: High | G23: =CONCATENATE(C23,D23,E23) -> LowMediumHighHigh
A24: Expectant | B24: Keep Informed | C24: MediumLow | D24: High | E24: High | G24: =CONCATENATE(C24,D24,E24) -> MediumLowHighHigh
A25: Expectant | B25: Keep Informed | C25: MediumLow | D25: MediumHigh | E25: High | G25: =CONCATENATE(C25,D25,E25) -> MediumLowMediumHighHigh
A26: High Salience | B26: Manage Closely | C26: High | D26: High | E26: High | G26: =CONCATENATE(C26,D26,E26) -> HighHighHigh
A27: High Salience | B27: Manage Closely | C27: High | D27: MediumHigh | E27: High | G27: =CONCATENATE(C27,D27,E27) -> HighMediumHighHigh
A28: High Salience | B28: Manage Closely | C28: MediumHigh | D28: High | E28: High | G28: =CONCATENATE(C28,D28,E28) -> MediumHighHighHigh
A29: High Salience | B29: Manage Closely | C29: MediumHigh | D29: MediumHigh | E29: High | G29: =CONCATENATE(C29,D29,E29) -> MediumHighMediumHighHigh
A30: Non or potential stakeholder | B30: Monitor | C30: Low | D30: Low | E30: Low | F30: Action in their favour, access to authority and exercise (a voice) | G30: =CONCATENATE(C30,D30,E30) -> LowLowLow
A31: Non or potential stakeholder | B31: Monitor | C31: Low | D31: MediumLow | E31: Low | G31: =CONCATENATE(C31,D31,E31) -> LowMediumLowLow
A32: Non or potential stakeholder | B32: Monitor | C32: MediumLow | D32: Low | E32: Low | G32: =CONCATENATE(C32,D32,E32) -> MediumLowLowLow
A33: Non or potential stakeholder | B33: Monitor | C33: MediumLow | D33: Mediumlow | E33: Low | G33: =CONCATENATE(C33,D33,E33) -> MediumLowMediumlowLow
G39: =CONCATENATE(C35,D35,E39)
G40: =CONCATENATE(C36,D36,E40)
G41: =CONCATENATE(C37,D37,E41)
A50: REFERENCE LOOK UP TABLE - DON'T EDIT
A53: Fase of relevance
A54: Fase 1 | B54: Start - Startnota
A55: Fase 2 | B55: Na Startnota - tem Scopingnota
...

Sheet Instructions
A1: Stakeholder Salience - instructions
A2: The template is fairly self-explanatory, with columns that auto-update.
A3: Text in red shows example entries or guides on what to put in each cell
A4: White cells | B4: Input your data in these cells.
A5: Grey cells | B5: Automated cell don't input data, delete or edit as automation (formula) may break
A7: To help avoid formulas breaking we have Protected the Sheet
A8: To Unprotect the password is 'salience'
A9: WARNING you may break the automation if you Unprotect the sheet. Only do this if you understand excel formulas.
A11: Formulas used (helpful if you have accidently deleted a formula)
A12: Sheet | B12: Column | C12: Formula | D12: What the formula does
A13: StakeholderSalienceAnalysis | B13: F (hidden column) | C13: =CONCATENATE(C5,D5,E5) | D13: Combines the (column C), legitimacy (column D) & urgency (column E).
A14: StakeholderSalienceAnalysis | B14: G | C14: =IFERROR(INDEX(StakeholderSalienceMatrix!B$2:B$100,MATCH(F6,StakeholderSalienceMatrix!G$2:G$100,0)),0) | D14: Looks up the Salience of the stakeholder based on the power (column C), legitimacy (column D) & urgency (column E). Uses the Concatenate formula in column F
A15: StakeholderSalienceAnalysis | B15: H | C15: =IFERROR(INDEX(StakeholderSalienceMatrix!A$2:A$100,MATCH(F5,StakeholderSalienceMatrix!G$2:G$100,0)),0) | D15: Looks up the Grouping of the stakeholder based on the power (column C), legitimacy (column D) & urgency (column E). Uses the Concatenate formula in column F.
A17: Conditional formatting rules are used to highlight High Salience and Definitive stakeholders

Sheet Klantreis
A1: KLANTREIS DEMO …
A3: FASE | B3: TIMING
A40: Instructies Klantreis !
A42: (minstens) 1 klantreis per projectpartner
A43: Gebruik bovenstaand schema OF maak je eigen visuele voorstelling
A44: Breng op voorhand je klanten-gebruikers in kaart d.m.v. een stakeholderanalyse, zie tabblad StakeholderSalienceAnalysis
A45: Bepaal zelf je aantal fasen; je demo kan verder staan dan fase 1 hierboven beschreven. Je kan een extra fase (bv. Educatie) toevoegen met toegespitste acties, etc.
A46: Kies zelf het aantal acties per fase. Focus op de belangrijke momenten waarop je met een klant/stakeholder te maken krijgt
A47: Je timing mag grofkorrelig maar loopt tot (minstens) het einde van het project Natuur-inbouw (31/08/2026)
